BEGIN:VCALENDAR
VERSION:2.0
PRODID:-//The View at Morgan Hill - Easton, PA - ECPv6.15.20//NONSGML v1.0//EN
CALSCALE:GREGORIAN
METHOD:PUBLISH
X-WR-CALNAME:The View at Morgan Hill - Easton, PA
X-ORIGINAL-URL:https://theviewatmorganhill.com
X-WR-CALDESC:Events for The View at Morgan Hill - Easton, PA
REFRESH-INTERVAL;VALUE=DURATION:PT1H
X-Robots-Tag:noindex
X-PUBLISHED-TTL:PT1H
BEGIN:VTIMEZONE
TZID:UTC
BEGIN:STANDARD
TZOFFSETFROM:+0000
TZOFFSETTO:+0000
TZNAME:UTC
DTSTART:20250101T000000
END:STANDARD
END:VTIMEZONE
BEGIN:VEVENT
DTSTART;TZID=UTC:20260428T000000
DTEND;TZID=UTC:20260428T235959
DTSTAMP:20260426T003649
CREATED:20260326T010732Z
LAST-MODIFIED:20260326T010818Z
UID:10000016-1777334400-1777420799@theviewatmorganhill.com
SUMMARY:$10 Tuesday Burger Day
DESCRIPTION:
URL:https://theviewatmorganhill.com/event/10-tuesday-burger-day/2026-04-28/
CATEGORIES:Restaurant
END:VEVENT
BEGIN:VEVENT
DTSTART;TZID=UTC:20260422T000000
DTEND;TZID=UTC:20260422T235959
DTSTAMP:20260426T003649
CREATED:20260326T011738Z
LAST-MODIFIED:20260326T011739Z
UID:10000134-1776816000-1776902399@theviewatmorganhill.com
SUMMARY:Pasta Night
DESCRIPTION:
URL:https://theviewatmorganhill.com/event/pasta-night/2026-04-22/
CATEGORIES:Restaurant
END:VEVENT
BEGIN:VEVENT
DTSTART;TZID=UTC:20260422T000000
DTEND;TZID=UTC:20260422T235959
DTSTAMP:20260426T003649
CREATED:20260326T011037Z
LAST-MODIFIED:20260326T011224Z
UID:10000074-1776816000-1776902399@theviewatmorganhill.com
SUMMARY:$12 Wednesday Meal Deal
DESCRIPTION:
URL:https://theviewatmorganhill.com/event/12-wednesday-meal-deal/2026-04-22/
CATEGORIES:Restaurant
END:VEVENT
BEGIN:VEVENT
DTSTART;TZID=UTC:20260421T000000
DTEND;TZID=UTC:20260421T235959
DTSTAMP:20260426T003649
CREATED:20260326T010732Z
LAST-MODIFIED:20260326T010818Z
UID:10000015-1776729600-1776815999@theviewatmorganhill.com
SUMMARY:$10 Tuesday Burger Day
DESCRIPTION:
URL:https://theviewatmorganhill.com/event/10-tuesday-burger-day/2026-04-21/
CATEGORIES:Restaurant
END:VEVENT
BEGIN:VEVENT
DTSTART;TZID=UTC:20260415T000000
DTEND;TZID=UTC:20260415T235959
DTSTAMP:20260426T003649
CREATED:20260326T011738Z
LAST-MODIFIED:20260326T011739Z
UID:10000133-1776211200-1776297599@theviewatmorganhill.com
SUMMARY:Pasta Night
DESCRIPTION:
URL:https://theviewatmorganhill.com/event/pasta-night/2026-04-15/
CATEGORIES:Restaurant
END:VEVENT
BEGIN:VEVENT
DTSTART;TZID=UTC:20260415T000000
DTEND;TZID=UTC:20260415T235959
DTSTAMP:20260426T003649
CREATED:20260326T011037Z
LAST-MODIFIED:20260326T011224Z
UID:10000073-1776211200-1776297599@theviewatmorganhill.com
SUMMARY:$12 Wednesday Meal Deal
DESCRIPTION:
URL:https://theviewatmorganhill.com/event/12-wednesday-meal-deal/2026-04-15/
CATEGORIES:Restaurant
END:VEVENT
BEGIN:VEVENT
DTSTART;TZID=UTC:20260414T000000
DTEND;TZID=UTC:20260414T235959
DTSTAMP:20260426T003649
CREATED:20260326T010732Z
LAST-MODIFIED:20260326T010818Z
UID:10000014-1776124800-1776211199@theviewatmorganhill.com
SUMMARY:$10 Tuesday Burger Day
DESCRIPTION:
URL:https://theviewatmorganhill.com/event/10-tuesday-burger-day/2026-04-14/
CATEGORIES:Restaurant
END:VEVENT
BEGIN:VEVENT
DTSTART;TZID=UTC:20260408T000000
DTEND;TZID=UTC:20260408T235959
DTSTAMP:20260426T003649
CREATED:20260326T011738Z
LAST-MODIFIED:20260326T011739Z
UID:10000132-1775606400-1775692799@theviewatmorganhill.com
SUMMARY:Pasta Night
DESCRIPTION:
URL:https://theviewatmorganhill.com/event/pasta-night/2026-04-08/
CATEGORIES:Restaurant
END:VEVENT
BEGIN:VEVENT
DTSTART;TZID=UTC:20260408T000000
DTEND;TZID=UTC:20260408T235959
DTSTAMP:20260426T003649
CREATED:20260326T011037Z
LAST-MODIFIED:20260326T011224Z
UID:10000072-1775606400-1775692799@theviewatmorganhill.com
SUMMARY:$12 Wednesday Meal Deal
DESCRIPTION:
URL:https://theviewatmorganhill.com/event/12-wednesday-meal-deal/2026-04-08/
CATEGORIES:Restaurant
END:VEVENT
BEGIN:VEVENT
DTSTART;TZID=UTC:20260407T000000
DTEND;TZID=UTC:20260407T235959
DTSTAMP:20260426T003649
CREATED:20260326T010732Z
LAST-MODIFIED:20260326T010818Z
UID:10000013-1775520000-1775606399@theviewatmorganhill.com
SUMMARY:$10 Tuesday Burger Day
DESCRIPTION:
URL:https://theviewatmorganhill.com/event/10-tuesday-burger-day/2026-04-07/
CATEGORIES:Restaurant
END:VEVENT
BEGIN:VEVENT
DTSTART;TZID=UTC:20260401T000000
DTEND;TZID=UTC:20260401T235959
DTSTAMP:20260426T003649
CREATED:20260326T011738Z
LAST-MODIFIED:20260326T011739Z
UID:10000131-1775001600-1775087999@theviewatmorganhill.com
SUMMARY:Pasta Night
DESCRIPTION:
URL:https://theviewatmorganhill.com/event/pasta-night/2026-04-01/
CATEGORIES:Restaurant
END:VEVENT
BEGIN:VEVENT
DTSTART;TZID=UTC:20260401T000000
DTEND;TZID=UTC:20260401T235959
DTSTAMP:20260426T003649
CREATED:20260326T011037Z
LAST-MODIFIED:20260326T011224Z
UID:10000071-1775001600-1775087999@theviewatmorganhill.com
SUMMARY:$12 Wednesday Meal Deal
DESCRIPTION:
URL:https://theviewatmorganhill.com/event/12-wednesday-meal-deal/2026-04-01/
CATEGORIES:Restaurant
END:VEVENT
BEGIN:VEVENT
DTSTART;TZID=UTC:20260331T000000
DTEND;TZID=UTC:20260331T235959
DTSTAMP:20260426T003649
CREATED:20260326T010732Z
LAST-MODIFIED:20260326T010818Z
UID:10000012-1774915200-1775001599@theviewatmorganhill.com
SUMMARY:$10 Tuesday Burger Day
DESCRIPTION:
URL:https://theviewatmorganhill.com/event/10-tuesday-burger-day/2026-03-31/
CATEGORIES:Restaurant
END:VEVENT
BEGIN:VEVENT
DTSTART;TZID=UTC:20260325T000000
DTEND;TZID=UTC:20260325T235959
DTSTAMP:20260426T003649
CREATED:20260326T011738Z
LAST-MODIFIED:20260326T011739Z
UID:10000129-1774396800-1774483199@theviewatmorganhill.com
SUMMARY:Pasta Night
DESCRIPTION:
URL:https://theviewatmorganhill.com/event/pasta-night/2026-03-25/
CATEGORIES:Restaurant
END:VEVENT
BEGIN:VEVENT
DTSTART;TZID=UTC:20260325T000000
DTEND;TZID=UTC:20260325T235959
DTSTAMP:20260426T003649
CREATED:20260326T011421Z
LAST-MODIFIED:20260326T011447Z
UID:10000102-1774396800-1774483199@theviewatmorganhill.com
SUMMARY:Bingo
DESCRIPTION:
URL:https://theviewatmorganhill.com/event/bingo/2026-03-25/
CATEGORIES:Restaurant
END:VEVENT
BEGIN:VEVENT
DTSTART;TZID=UTC:20260325T000000
DTEND;TZID=UTC:20260325T235959
DTSTAMP:20260426T003649
CREATED:20260326T011037Z
LAST-MODIFIED:20260326T011224Z
UID:10000065-1774396800-1774483199@theviewatmorganhill.com
SUMMARY:$12 Wednesday Meal Deal
DESCRIPTION:
URL:https://theviewatmorganhill.com/event/12-wednesday-meal-deal/2026-03-25/
CATEGORIES:Restaurant
END:VEVENT
BEGIN:VEVENT
DTSTART;TZID=UTC:20260324T000000
DTEND;TZID=UTC:20260324T235959
DTSTAMP:20260426T003649
CREATED:20260326T010732Z
LAST-MODIFIED:20260326T010818Z
UID:10000011-1774310400-1774396799@theviewatmorganhill.com
SUMMARY:$10 Tuesday Burger Day
DESCRIPTION:
URL:https://theviewatmorganhill.com/event/10-tuesday-burger-day/2026-03-24/
CATEGORIES:Restaurant
END:VEVENT
BEGIN:VEVENT
DTSTART;TZID=UTC:20260318T000000
DTEND;TZID=UTC:20260318T235959
DTSTAMP:20260426T003649
CREATED:20260326T011738Z
LAST-MODIFIED:20260326T011739Z
UID:10000128-1773792000-1773878399@theviewatmorganhill.com
SUMMARY:Pasta Night
DESCRIPTION:
URL:https://theviewatmorganhill.com/event/pasta-night/2026-03-18/
CATEGORIES:Restaurant
END:VEVENT
BEGIN:VEVENT
DTSTART;TZID=UTC:20260318T000000
DTEND;TZID=UTC:20260318T235959
DTSTAMP:20260426T003649
CREATED:20260326T011421Z
LAST-MODIFIED:20260326T011447Z
UID:10000101-1773792000-1773878399@theviewatmorganhill.com
SUMMARY:Bingo
DESCRIPTION:
URL:https://theviewatmorganhill.com/event/bingo/2026-03-18/
CATEGORIES:Restaurant
END:VEVENT
BEGIN:VEVENT
DTSTART;TZID=UTC:20260318T000000
DTEND;TZID=UTC:20260318T235959
DTSTAMP:20260426T003649
CREATED:20260326T011037Z
LAST-MODIFIED:20260326T011224Z
UID:10000064-1773792000-1773878399@theviewatmorganhill.com
SUMMARY:$12 Wednesday Meal Deal
DESCRIPTION:
URL:https://theviewatmorganhill.com/event/12-wednesday-meal-deal/2026-03-18/
CATEGORIES:Restaurant
END:VEVENT
BEGIN:VEVENT
DTSTART;TZID=UTC:20260317T000000
DTEND;TZID=UTC:20260317T235959
DTSTAMP:20260426T003649
CREATED:20260326T010732Z
LAST-MODIFIED:20260326T010818Z
UID:10000010-1773705600-1773791999@theviewatmorganhill.com
SUMMARY:$10 Tuesday Burger Day
DESCRIPTION:
URL:https://theviewatmorganhill.com/event/10-tuesday-burger-day/2026-03-17/
CATEGORIES:Restaurant
END:VEVENT
BEGIN:VEVENT
DTSTART;TZID=UTC:20260317T000000
DTEND;TZID=UTC:20260317T235959
DTSTAMP:20260426T003649
CREATED:20231121T222235Z
LAST-MODIFIED:20250630T180621Z
UID:10000006-1773705600-1773791999@theviewatmorganhill.com
SUMMARY:Saint Patrick's Day
DESCRIPTION:
URL:https://theviewatmorganhill.com/event/saint-patricks-day/
CATEGORIES:Holidays
END:VEVENT
BEGIN:VEVENT
DTSTART;TZID=UTC:20260311T000000
DTEND;TZID=UTC:20260311T235959
DTSTAMP:20260426T003649
CREATED:20260326T011738Z
LAST-MODIFIED:20260326T011739Z
UID:10000127-1773187200-1773273599@theviewatmorganhill.com
SUMMARY:Pasta Night
DESCRIPTION:
URL:https://theviewatmorganhill.com/event/pasta-night/2026-03-11/
CATEGORIES:Restaurant
END:VEVENT
BEGIN:VEVENT
DTSTART;TZID=UTC:20260311T000000
DTEND;TZID=UTC:20260311T235959
DTSTAMP:20260426T003649
CREATED:20260326T011421Z
LAST-MODIFIED:20260326T011447Z
UID:10000100-1773187200-1773273599@theviewatmorganhill.com
SUMMARY:Bingo
DESCRIPTION:
URL:https://theviewatmorganhill.com/event/bingo/2026-03-11/
CATEGORIES:Restaurant
END:VEVENT
BEGIN:VEVENT
DTSTART;TZID=UTC:20260311T000000
DTEND;TZID=UTC:20260311T235959
DTSTAMP:20260426T003649
CREATED:20260326T011037Z
LAST-MODIFIED:20260326T011224Z
UID:10000063-1773187200-1773273599@theviewatmorganhill.com
SUMMARY:$12 Wednesday Meal Deal
DESCRIPTION:
URL:https://theviewatmorganhill.com/event/12-wednesday-meal-deal/2026-03-11/
CATEGORIES:Restaurant
END:VEVENT
BEGIN:VEVENT
DTSTART;TZID=UTC:20260310T000000
DTEND;TZID=UTC:20260310T235959
DTSTAMP:20260426T003649
CREATED:20260326T010732Z
LAST-MODIFIED:20260326T010818Z
UID:10000009-1773100800-1773187199@theviewatmorganhill.com
SUMMARY:$10 Tuesday Burger Day
DESCRIPTION:
URL:https://theviewatmorganhill.com/event/10-tuesday-burger-day/2026-03-10/
CATEGORIES:Restaurant
END:VEVENT
BEGIN:VEVENT
DTSTART;TZID=UTC:20260304T000000
DTEND;TZID=UTC:20260304T235959
DTSTAMP:20260426T003649
CREATED:20260326T011738Z
LAST-MODIFIED:20260326T011739Z
UID:10000126-1772582400-1772668799@theviewatmorganhill.com
SUMMARY:Pasta Night
DESCRIPTION:
URL:https://theviewatmorganhill.com/event/pasta-night/2026-03-04/
CATEGORIES:Restaurant
END:VEVENT
BEGIN:VEVENT
DTSTART;TZID=UTC:20260304T000000
DTEND;TZID=UTC:20260304T235959
DTSTAMP:20260426T003649
CREATED:20260326T011421Z
LAST-MODIFIED:20260326T011447Z
UID:10000099-1772582400-1772668799@theviewatmorganhill.com
SUMMARY:Bingo
DESCRIPTION:
URL:https://theviewatmorganhill.com/event/bingo/2026-03-04/
CATEGORIES:Restaurant
END:VEVENT
BEGIN:VEVENT
DTSTART;TZID=UTC:20260304T000000
DTEND;TZID=UTC:20260304T235959
DTSTAMP:20260426T003649
CREATED:20260326T011037Z
LAST-MODIFIED:20260326T011224Z
UID:10000062-1772582400-1772668799@theviewatmorganhill.com
SUMMARY:$12 Wednesday Meal Deal
DESCRIPTION:
URL:https://theviewatmorganhill.com/event/12-wednesday-meal-deal/2026-03-04/
CATEGORIES:Restaurant
END:VEVENT
BEGIN:VEVENT
DTSTART;TZID=UTC:20260303T000000
DTEND;TZID=UTC:20260303T235959
DTSTAMP:20260426T003649
CREATED:20260326T010732Z
LAST-MODIFIED:20260326T010818Z
UID:10000008-1772496000-1772582399@theviewatmorganhill.com
SUMMARY:$10 Tuesday Burger Day
DESCRIPTION:
URL:https://theviewatmorganhill.com/event/10-tuesday-burger-day/2026-03-03/
CATEGORIES:Restaurant
END:VEVENT
END:VCALENDAR