BEGIN:VCALENDAR
VERSION:2.0
PRODID:-//The View at Morgan Hill - Easton, PA - ECPv6.15.20//NONSGML v1.0//EN
CALSCALE:GREGORIAN
METHOD:PUBLISH
X-WR-CALNAME:The View at Morgan Hill - Easton, PA
X-ORIGINAL-URL:https://theviewatmorganhill.com
X-WR-CALDESC:Events for The View at Morgan Hill - Easton, PA
REFRESH-INTERVAL;VALUE=DURATION:PT1H
X-Robots-Tag:noindex
X-PUBLISHED-TTL:PT1H
BEGIN:VTIMEZONE
TZID:UTC
BEGIN:STANDARD
TZOFFSETFROM:+0000
TZOFFSETTO:+0000
TZNAME:UTC
DTSTART:20240101T000000
END:STANDARD
END:VTIMEZONE
BEGIN:VEVENT
DTSTART;TZID=UTC:20260310T000000
DTEND;TZID=UTC:20260310T235959
DTSTAMP:20260426T031151
CREATED:20260326T010732Z
LAST-MODIFIED:20260326T010818Z
UID:10000009-1773100800-1773187199@theviewatmorganhill.com
SUMMARY:$10 Tuesday Burger Day
DESCRIPTION:
URL:https://theviewatmorganhill.com/event/10-tuesday-burger-day/2026-03-10/
CATEGORIES:Restaurant
END:VEVENT
BEGIN:VEVENT
DTSTART;TZID=UTC:20260304T000000
DTEND;TZID=UTC:20260304T235959
DTSTAMP:20260426T031151
CREATED:20260326T011738Z
LAST-MODIFIED:20260326T011739Z
UID:10000126-1772582400-1772668799@theviewatmorganhill.com
SUMMARY:Pasta Night
DESCRIPTION:
URL:https://theviewatmorganhill.com/event/pasta-night/2026-03-04/
CATEGORIES:Restaurant
END:VEVENT
BEGIN:VEVENT
DTSTART;TZID=UTC:20260304T000000
DTEND;TZID=UTC:20260304T235959
DTSTAMP:20260426T031151
CREATED:20260326T011421Z
LAST-MODIFIED:20260326T011447Z
UID:10000099-1772582400-1772668799@theviewatmorganhill.com
SUMMARY:Bingo
DESCRIPTION:
URL:https://theviewatmorganhill.com/event/bingo/2026-03-04/
CATEGORIES:Restaurant
END:VEVENT
BEGIN:VEVENT
DTSTART;TZID=UTC:20260304T000000
DTEND;TZID=UTC:20260304T235959
DTSTAMP:20260426T031151
CREATED:20260326T011037Z
LAST-MODIFIED:20260326T011224Z
UID:10000062-1772582400-1772668799@theviewatmorganhill.com
SUMMARY:$12 Wednesday Meal Deal
DESCRIPTION:
URL:https://theviewatmorganhill.com/event/12-wednesday-meal-deal/2026-03-04/
CATEGORIES:Restaurant
END:VEVENT
BEGIN:VEVENT
DTSTART;TZID=UTC:20260303T000000
DTEND;TZID=UTC:20260303T235959
DTSTAMP:20260426T031151
CREATED:20260326T010732Z
LAST-MODIFIED:20260326T010818Z
UID:10000008-1772496000-1772582399@theviewatmorganhill.com
SUMMARY:$10 Tuesday Burger Day
DESCRIPTION:
URL:https://theviewatmorganhill.com/event/10-tuesday-burger-day/2026-03-03/
CATEGORIES:Restaurant
END:VEVENT
BEGIN:VEVENT
DTSTART;TZID=UTC:20260226T000000
DTEND;TZID=UTC:20260226T235959
DTSTAMP:20260426T031151
CREATED:20260326T011738Z
LAST-MODIFIED:20260326T011739Z
UID:10000130-1772064000-1772150399@theviewatmorganhill.com
SUMMARY:Pasta Night
DESCRIPTION:
URL:https://theviewatmorganhill.com/event/pasta-night/2026-02-26/
CATEGORIES:Restaurant
END:VEVENT
BEGIN:VEVENT
DTSTART;TZID=UTC:20260225T000000
DTEND;TZID=UTC:20260225T235959
DTSTAMP:20260426T031151
CREATED:20260326T011421Z
LAST-MODIFIED:20260326T011447Z
UID:10000098-1771977600-1772063999@theviewatmorganhill.com
SUMMARY:Bingo
DESCRIPTION:
URL:https://theviewatmorganhill.com/event/bingo/2026-02-25/
CATEGORIES:Restaurant
END:VEVENT
BEGIN:VEVENT
DTSTART;TZID=UTC:20260225T000000
DTEND;TZID=UTC:20260225T235959
DTSTAMP:20260426T031151
CREATED:20260326T011037Z
LAST-MODIFIED:20260326T011224Z
UID:10000061-1771977600-1772063999@theviewatmorganhill.com
SUMMARY:$12 Wednesday Meal Deal
DESCRIPTION:
URL:https://theviewatmorganhill.com/event/12-wednesday-meal-deal/2026-02-25/
CATEGORIES:Restaurant
END:VEVENT
BEGIN:VEVENT
DTSTART;TZID=UTC:20260224T000000
DTEND;TZID=UTC:20260224T235959
DTSTAMP:20260426T031151
CREATED:20260326T010732Z
LAST-MODIFIED:20260326T010818Z
UID:10000007-1771891200-1771977599@theviewatmorganhill.com
SUMMARY:$10 Tuesday Burger Day
DESCRIPTION:
URL:https://theviewatmorganhill.com/event/10-tuesday-burger-day/2026-02-24/
CATEGORIES:Restaurant
END:VEVENT
BEGIN:VEVENT
DTSTART;TZID=UTC:20260218T000000
DTEND;TZID=UTC:20260218T235959
DTSTAMP:20260426T031151
CREATED:20260326T011037Z
LAST-MODIFIED:20260326T011224Z
UID:10000070-1771372800-1771459199@theviewatmorganhill.com
SUMMARY:$12 Wednesday Meal Deal
DESCRIPTION:
URL:https://theviewatmorganhill.com/event/12-wednesday-meal-deal/2026-02-18/
CATEGORIES:Restaurant
END:VEVENT
BEGIN:VEVENT
DTSTART;TZID=UTC:20260211T000000
DTEND;TZID=UTC:20260211T235959
DTSTAMP:20260426T031151
CREATED:20260326T011037Z
LAST-MODIFIED:20260326T011224Z
UID:10000069-1770768000-1770854399@theviewatmorganhill.com
SUMMARY:$12 Wednesday Meal Deal
DESCRIPTION:
URL:https://theviewatmorganhill.com/event/12-wednesday-meal-deal/2026-02-11/
CATEGORIES:Restaurant
END:VEVENT
BEGIN:VEVENT
DTSTART;TZID=UTC:20260204T000000
DTEND;TZID=UTC:20260204T235959
DTSTAMP:20260426T031151
CREATED:20260326T011037Z
LAST-MODIFIED:20260326T011224Z
UID:10000068-1770163200-1770249599@theviewatmorganhill.com
SUMMARY:$12 Wednesday Meal Deal
DESCRIPTION:
URL:https://theviewatmorganhill.com/event/12-wednesday-meal-deal/2026-02-04/
CATEGORIES:Restaurant
END:VEVENT
BEGIN:VEVENT
DTSTART;TZID=UTC:20260128T000000
DTEND;TZID=UTC:20260128T235959
DTSTAMP:20260426T031151
CREATED:20260326T011037Z
LAST-MODIFIED:20260326T011224Z
UID:10000067-1769558400-1769644799@theviewatmorganhill.com
SUMMARY:$12 Wednesday Meal Deal
DESCRIPTION:
URL:https://theviewatmorganhill.com/event/12-wednesday-meal-deal/2026-01-28/
CATEGORIES:Restaurant
END:VEVENT
BEGIN:VEVENT
DTSTART;TZID=UTC:20260125T000000
DTEND;TZID=UTC:20260125T235959
DTSTAMP:20260426T031151
CREATED:20260326T011037Z
LAST-MODIFIED:20260326T011224Z
UID:10000066-1769299200-1769385599@theviewatmorganhill.com
SUMMARY:$12 Wednesday Meal Deal
DESCRIPTION:
URL:https://theviewatmorganhill.com/event/12-wednesday-meal-deal/2026-01-25/
CATEGORIES:Restaurant
END:VEVENT
BEGIN:VEVENT
DTSTART;TZID=UTC:20260101T000000
DTEND;TZID=UTC:20260101T235959
DTSTAMP:20260426T031151
CREATED:20231005T175327Z
LAST-MODIFIED:20250630T180705Z
UID:10000003-1767225600-1767311999@theviewatmorganhill.com
SUMMARY:New Year's Eve
DESCRIPTION:
URL:https://theviewatmorganhill.com/event/new-years-eve/
CATEGORIES:Holidays
END:VEVENT
BEGIN:VEVENT
DTSTART;TZID=UTC:20251225T000000
DTEND;TZID=UTC:20251225T235959
DTSTAMP:20260426T031151
CREATED:20231121T222203Z
LAST-MODIFIED:20250630T180736Z
UID:10000005-1766620800-1766707199@theviewatmorganhill.com
SUMMARY:Christmas
DESCRIPTION:
URL:https://theviewatmorganhill.com/event/christmas/
CATEGORIES:Holidays
END:VEVENT
END:VCALENDAR