BEGIN:VCALENDAR
VERSION:2.0
PRODID:-//The View at Morgan Hill - Easton, PA - ECPv6.15.20//NONSGML v1.0//EN
CALSCALE:GREGORIAN
METHOD:PUBLISH
X-ORIGINAL-URL:https://theviewatmorganhill.com
X-WR-CALDESC:Events for The View at Morgan Hill - Easton, PA
REFRESH-INTERVAL;VALUE=DURATION:PT1H
X-Robots-Tag:noindex
X-PUBLISHED-TTL:PT1H
BEGIN:VTIMEZONE
TZID:UTC
BEGIN:STANDARD
TZOFFSETFROM:+0000
TZOFFSETTO:+0000
TZNAME:UTC
DTSTART:20250101T000000
END:STANDARD
END:VTIMEZONE
BEGIN:VEVENT
DTSTART;TZID=UTC:20260602T000000
DTEND;TZID=UTC:20260602T235959
DTSTAMP:20260426T015803
CREATED:20260326T010732Z
LAST-MODIFIED:20260326T010818Z
UID:10000021-1780358400-1780444799@theviewatmorganhill.com
SUMMARY:$10 Tuesday Burger Day
DESCRIPTION:
URL:https://theviewatmorganhill.com/event/10-tuesday-burger-day/2026-06-02/
CATEGORIES:Restaurant
END:VEVENT
BEGIN:VEVENT
DTSTART;TZID=UTC:20260603T000000
DTEND;TZID=UTC:20260603T235959
DTSTAMP:20260426T015803
CREATED:20260326T011037Z
LAST-MODIFIED:20260326T011224Z
UID:10000080-1780444800-1780531199@theviewatmorganhill.com
SUMMARY:$12 Wednesday Meal Deal
DESCRIPTION:
URL:https://theviewatmorganhill.com/event/12-wednesday-meal-deal/2026-06-03/
CATEGORIES:Restaurant
END:VEVENT
BEGIN:VEVENT
DTSTART;TZID=UTC:20260603T000000
DTEND;TZID=UTC:20260603T235959
DTSTAMP:20260426T015803
CREATED:20260326T011738Z
LAST-MODIFIED:20260326T011739Z
UID:10000140-1780444800-1780531199@theviewatmorganhill.com
SUMMARY:Pasta Night
DESCRIPTION:
URL:https://theviewatmorganhill.com/event/pasta-night/2026-06-03/
CATEGORIES:Restaurant
END:VEVENT
BEGIN:VEVENT
DTSTART;TZID=UTC:20260609T000000
DTEND;TZID=UTC:20260609T235959
DTSTAMP:20260426T015803
CREATED:20260326T010732Z
LAST-MODIFIED:20260326T010818Z
UID:10000022-1780963200-1781049599@theviewatmorganhill.com
SUMMARY:$10 Tuesday Burger Day
DESCRIPTION:
URL:https://theviewatmorganhill.com/event/10-tuesday-burger-day/2026-06-09/
CATEGORIES:Restaurant
END:VEVENT
BEGIN:VEVENT
DTSTART;TZID=UTC:20260610T000000
DTEND;TZID=UTC:20260610T235959
DTSTAMP:20260426T015803
CREATED:20260326T011037Z
LAST-MODIFIED:20260326T011224Z
UID:10000081-1781049600-1781135999@theviewatmorganhill.com
SUMMARY:$12 Wednesday Meal Deal
DESCRIPTION:
URL:https://theviewatmorganhill.com/event/12-wednesday-meal-deal/2026-06-10/
CATEGORIES:Restaurant
END:VEVENT
BEGIN:VEVENT
DTSTART;TZID=UTC:20260610T000000
DTEND;TZID=UTC:20260610T235959
DTSTAMP:20260426T015803
CREATED:20260326T011738Z
LAST-MODIFIED:20260326T011739Z
UID:10000141-1781049600-1781135999@theviewatmorganhill.com
SUMMARY:Pasta Night
DESCRIPTION:
URL:https://theviewatmorganhill.com/event/pasta-night/2026-06-10/
CATEGORIES:Restaurant
END:VEVENT
BEGIN:VEVENT
DTSTART;TZID=UTC:20260616T000000
DTEND;TZID=UTC:20260616T235959
DTSTAMP:20260426T015803
CREATED:20260326T010732Z
LAST-MODIFIED:20260326T010818Z
UID:10000023-1781568000-1781654399@theviewatmorganhill.com
SUMMARY:$10 Tuesday Burger Day
DESCRIPTION:
URL:https://theviewatmorganhill.com/event/10-tuesday-burger-day/2026-06-16/
CATEGORIES:Restaurant
END:VEVENT
BEGIN:VEVENT
DTSTART;TZID=UTC:20260617T000000
DTEND;TZID=UTC:20260617T235959
DTSTAMP:20260426T015803
CREATED:20260326T011037Z
LAST-MODIFIED:20260326T011224Z
UID:10000082-1781654400-1781740799@theviewatmorganhill.com
SUMMARY:$12 Wednesday Meal Deal
DESCRIPTION:
URL:https://theviewatmorganhill.com/event/12-wednesday-meal-deal/2026-06-17/
CATEGORIES:Restaurant
END:VEVENT
BEGIN:VEVENT
DTSTART;TZID=UTC:20260617T000000
DTEND;TZID=UTC:20260617T235959
DTSTAMP:20260426T015803
CREATED:20260326T011738Z
LAST-MODIFIED:20260326T011739Z
UID:10000142-1781654400-1781740799@theviewatmorganhill.com
SUMMARY:Pasta Night
DESCRIPTION:
URL:https://theviewatmorganhill.com/event/pasta-night/2026-06-17/
CATEGORIES:Restaurant
END:VEVENT
BEGIN:VEVENT
DTSTART;TZID=UTC:20260623T000000
DTEND;TZID=UTC:20260623T235959
DTSTAMP:20260426T015803
CREATED:20260326T010732Z
LAST-MODIFIED:20260326T010818Z
UID:10000024-1782172800-1782259199@theviewatmorganhill.com
SUMMARY:$10 Tuesday Burger Day
DESCRIPTION:
URL:https://theviewatmorganhill.com/event/10-tuesday-burger-day/2026-06-23/
CATEGORIES:Restaurant
END:VEVENT
BEGIN:VEVENT
DTSTART;TZID=UTC:20260624T000000
DTEND;TZID=UTC:20260624T235959
DTSTAMP:20260426T015803
CREATED:20260326T011037Z
LAST-MODIFIED:20260326T011224Z
UID:10000083-1782259200-1782345599@theviewatmorganhill.com
SUMMARY:$12 Wednesday Meal Deal
DESCRIPTION:
URL:https://theviewatmorganhill.com/event/12-wednesday-meal-deal/2026-06-24/
CATEGORIES:Restaurant
END:VEVENT
BEGIN:VEVENT
DTSTART;TZID=UTC:20260624T000000
DTEND;TZID=UTC:20260624T235959
DTSTAMP:20260426T015803
CREATED:20260326T011738Z
LAST-MODIFIED:20260326T011739Z
UID:10000143-1782259200-1782345599@theviewatmorganhill.com
SUMMARY:Pasta Night
DESCRIPTION:
URL:https://theviewatmorganhill.com/event/pasta-night/2026-06-24/
CATEGORIES:Restaurant
END:VEVENT
BEGIN:VEVENT
DTSTART;TZID=UTC:20260630T000000
DTEND;TZID=UTC:20260630T235959
DTSTAMP:20260426T015803
CREATED:20260326T010732Z
LAST-MODIFIED:20260326T010818Z
UID:10000025-1782777600-1782863999@theviewatmorganhill.com
SUMMARY:$10 Tuesday Burger Day
DESCRIPTION:
URL:https://theviewatmorganhill.com/event/10-tuesday-burger-day/2026-06-30/
CATEGORIES:Restaurant
END:VEVENT
BEGIN:VEVENT
DTSTART;TZID=UTC:20260701T000000
DTEND;TZID=UTC:20260701T235959
DTSTAMP:20260426T015803
CREATED:20260326T011037Z
LAST-MODIFIED:20260326T011224Z
UID:10000084-1782864000-1782950399@theviewatmorganhill.com
SUMMARY:$12 Wednesday Meal Deal
DESCRIPTION:
URL:https://theviewatmorganhill.com/event/12-wednesday-meal-deal/2026-07-01/
CATEGORIES:Restaurant
END:VEVENT
BEGIN:VEVENT
DTSTART;TZID=UTC:20260701T000000
DTEND;TZID=UTC:20260701T235959
DTSTAMP:20260426T015803
CREATED:20260326T011738Z
LAST-MODIFIED:20260326T011739Z
UID:10000144-1782864000-1782950399@theviewatmorganhill.com
SUMMARY:Pasta Night
DESCRIPTION:
URL:https://theviewatmorganhill.com/event/pasta-night/2026-07-01/
CATEGORIES:Restaurant
END:VEVENT
BEGIN:VEVENT
DTSTART;TZID=UTC:20260707T000000
DTEND;TZID=UTC:20260707T235959
DTSTAMP:20260426T015803
CREATED:20260326T010732Z
LAST-MODIFIED:20260326T010818Z
UID:10000026-1783382400-1783468799@theviewatmorganhill.com
SUMMARY:$10 Tuesday Burger Day
DESCRIPTION:
URL:https://theviewatmorganhill.com/event/10-tuesday-burger-day/2026-07-07/
CATEGORIES:Restaurant
END:VEVENT
BEGIN:VEVENT
DTSTART;TZID=UTC:20260708T000000
DTEND;TZID=UTC:20260708T235959
DTSTAMP:20260426T015803
CREATED:20260326T011037Z
LAST-MODIFIED:20260326T011224Z
UID:10000085-1783468800-1783555199@theviewatmorganhill.com
SUMMARY:$12 Wednesday Meal Deal
DESCRIPTION:
URL:https://theviewatmorganhill.com/event/12-wednesday-meal-deal/2026-07-08/
CATEGORIES:Restaurant
END:VEVENT
BEGIN:VEVENT
DTSTART;TZID=UTC:20260708T000000
DTEND;TZID=UTC:20260708T235959
DTSTAMP:20260426T015803
CREATED:20260326T011738Z
LAST-MODIFIED:20260326T011739Z
UID:10000145-1783468800-1783555199@theviewatmorganhill.com
SUMMARY:Pasta Night
DESCRIPTION:
URL:https://theviewatmorganhill.com/event/pasta-night/2026-07-08/
CATEGORIES:Restaurant
END:VEVENT
BEGIN:VEVENT
DTSTART;TZID=UTC:20260714T000000
DTEND;TZID=UTC:20260714T235959
DTSTAMP:20260426T015803
CREATED:20260326T010732Z
LAST-MODIFIED:20260326T010818Z
UID:10000027-1783987200-1784073599@theviewatmorganhill.com
SUMMARY:$10 Tuesday Burger Day
DESCRIPTION:
URL:https://theviewatmorganhill.com/event/10-tuesday-burger-day/2026-07-14/
CATEGORIES:Restaurant
END:VEVENT
BEGIN:VEVENT
DTSTART;TZID=UTC:20260715T000000
DTEND;TZID=UTC:20260715T235959
DTSTAMP:20260426T015803
CREATED:20260326T011037Z
LAST-MODIFIED:20260326T011224Z
UID:10000086-1784073600-1784159999@theviewatmorganhill.com
SUMMARY:$12 Wednesday Meal Deal
DESCRIPTION:
URL:https://theviewatmorganhill.com/event/12-wednesday-meal-deal/2026-07-15/
CATEGORIES:Restaurant
END:VEVENT
BEGIN:VEVENT
DTSTART;TZID=UTC:20260715T000000
DTEND;TZID=UTC:20260715T235959
DTSTAMP:20260426T015803
CREATED:20260326T011738Z
LAST-MODIFIED:20260326T011739Z
UID:10000146-1784073600-1784159999@theviewatmorganhill.com
SUMMARY:Pasta Night
DESCRIPTION:
URL:https://theviewatmorganhill.com/event/pasta-night/2026-07-15/
CATEGORIES:Restaurant
END:VEVENT
BEGIN:VEVENT
DTSTART;TZID=UTC:20260721T000000
DTEND;TZID=UTC:20260721T235959
DTSTAMP:20260426T015803
CREATED:20260326T010732Z
LAST-MODIFIED:20260326T010818Z
UID:10000028-1784592000-1784678399@theviewatmorganhill.com
SUMMARY:$10 Tuesday Burger Day
DESCRIPTION:
URL:https://theviewatmorganhill.com/event/10-tuesday-burger-day/2026-07-21/
CATEGORIES:Restaurant
END:VEVENT
BEGIN:VEVENT
DTSTART;TZID=UTC:20260722T000000
DTEND;TZID=UTC:20260722T235959
DTSTAMP:20260426T015803
CREATED:20260326T011037Z
LAST-MODIFIED:20260326T011224Z
UID:10000087-1784678400-1784764799@theviewatmorganhill.com
SUMMARY:$12 Wednesday Meal Deal
DESCRIPTION:
URL:https://theviewatmorganhill.com/event/12-wednesday-meal-deal/2026-07-22/
CATEGORIES:Restaurant
END:VEVENT
BEGIN:VEVENT
DTSTART;TZID=UTC:20260722T000000
DTEND;TZID=UTC:20260722T235959
DTSTAMP:20260426T015803
CREATED:20260326T011738Z
LAST-MODIFIED:20260326T011739Z
UID:10000147-1784678400-1784764799@theviewatmorganhill.com
SUMMARY:Pasta Night
DESCRIPTION:
URL:https://theviewatmorganhill.com/event/pasta-night/2026-07-22/
CATEGORIES:Restaurant
END:VEVENT
BEGIN:VEVENT
DTSTART;TZID=UTC:20260728T000000
DTEND;TZID=UTC:20260728T235959
DTSTAMP:20260426T015803
CREATED:20260326T010732Z
LAST-MODIFIED:20260326T010818Z
UID:10000029-1785196800-1785283199@theviewatmorganhill.com
SUMMARY:$10 Tuesday Burger Day
DESCRIPTION:
URL:https://theviewatmorganhill.com/event/10-tuesday-burger-day/2026-07-28/
CATEGORIES:Restaurant
END:VEVENT
BEGIN:VEVENT
DTSTART;TZID=UTC:20260729T000000
DTEND;TZID=UTC:20260729T235959
DTSTAMP:20260426T015803
CREATED:20260326T011037Z
LAST-MODIFIED:20260326T011224Z
UID:10000088-1785283200-1785369599@theviewatmorganhill.com
SUMMARY:$12 Wednesday Meal Deal
DESCRIPTION:
URL:https://theviewatmorganhill.com/event/12-wednesday-meal-deal/2026-07-29/
CATEGORIES:Restaurant
END:VEVENT
BEGIN:VEVENT
DTSTART;TZID=UTC:20260729T000000
DTEND;TZID=UTC:20260729T235959
DTSTAMP:20260426T015803
CREATED:20260326T011738Z
LAST-MODIFIED:20260326T011739Z
UID:10000148-1785283200-1785369599@theviewatmorganhill.com
SUMMARY:Pasta Night
DESCRIPTION:
URL:https://theviewatmorganhill.com/event/pasta-night/2026-07-29/
CATEGORIES:Restaurant
END:VEVENT
BEGIN:VEVENT
DTSTART;TZID=UTC:20260804T000000
DTEND;TZID=UTC:20260804T235959
DTSTAMP:20260426T015803
CREATED:20260326T010732Z
LAST-MODIFIED:20260326T010818Z
UID:10000030-1785801600-1785887999@theviewatmorganhill.com
SUMMARY:$10 Tuesday Burger Day
DESCRIPTION:
URL:https://theviewatmorganhill.com/event/10-tuesday-burger-day/2026-08-04/
CATEGORIES:Restaurant
END:VEVENT
BEGIN:VEVENT
DTSTART;TZID=UTC:20260805T000000
DTEND;TZID=UTC:20260805T235959
DTSTAMP:20260426T015803
CREATED:20260326T011037Z
LAST-MODIFIED:20260326T011224Z
UID:10000089-1785888000-1785974399@theviewatmorganhill.com
SUMMARY:$12 Wednesday Meal Deal
DESCRIPTION:
URL:https://theviewatmorganhill.com/event/12-wednesday-meal-deal/2026-08-05/
CATEGORIES:Restaurant
END:VEVENT
BEGIN:VEVENT
DTSTART;TZID=UTC:20260805T000000
DTEND;TZID=UTC:20260805T235959
DTSTAMP:20260426T015803
CREATED:20260326T011738Z
LAST-MODIFIED:20260326T011739Z
UID:10000149-1785888000-1785974399@theviewatmorganhill.com
SUMMARY:Pasta Night
DESCRIPTION:
URL:https://theviewatmorganhill.com/event/pasta-night/2026-08-05/
CATEGORIES:Restaurant
END:VEVENT
END:VCALENDAR